BEGIN:VCALENDAR
VERSION:2.0
PRODID:-//School of Saint Mary - ECPv5.4.0//NONSGML v1.0//EN
CALSCALE:GREGORIAN
METHOD:PUBLISH
X-WR-CALNAME:School of Saint Mary
X-ORIGINAL-URL:https://schoolofsaintmary.com
X-WR-CALDESC:Events for School of Saint Mary
BEGIN:VTIMEZONE
TZID:America/Chicago
BEGIN:DAYLIGHT
TZOFFSETFROM:-0600
TZOFFSETTO:-0500
TZNAME:CDT
DTSTART:20210314T080000
END:DAYLIGHT
BEGIN:STANDARD
TZOFFSETFROM:-0500
TZOFFSETTO:-0600
TZNAME:CST
DTSTART:20211107T070000
END:STANDARD
END:VTIMEZONE
BEGIN:VEVENT
DTSTART;VALUE=DATE:20210401
DTEND;VALUE=DATE:20210402
DTSTAMP:20210417T225553
CREATED:20201008T185617Z
LAST-MODIFIED:20201008T185617Z
UID:5930-1617235200-1617321599@schoolofsaintmary.com
SUMMARY:3rd Qtr Report Cards Issued
DESCRIPTION:
URL:https://schoolofsaintmary.com/event/3rd-qtr-report-cards-issued/
END:VEVENT
BEGIN:VEVENT
DTSTART;VALUE=DATE:20210402
DTEND;VALUE=DATE:20210403
DTSTAMP:20210417T225553
CREATED:20201008T185944Z
LAST-MODIFIED:20201008T185944Z
UID:5932-1617321600-1617407999@schoolofsaintmary.com
SUMMARY:No School - Good Friday
DESCRIPTION:
URL:https://schoolofsaintmary.com/event/no-school-good-friday-4/
END:VEVENT
BEGIN:VEVENT
DTSTART;VALUE=DATE:20210405
DTEND;VALUE=DATE:20210406
DTSTAMP:20210417T225553
CREATED:20201008T190052Z
LAST-MODIFIED:20201008T190052Z
UID:5934-1617580800-1617667199@schoolofsaintmary.com
SUMMARY:No School - Easter Monday
DESCRIPTION:
URL:https://schoolofsaintmary.com/event/no-school-easter-monday-4/
END:VEVENT
BEGIN:VEVENT
DTSTART;VALUE=DATE:20210406
DTEND;VALUE=DATE:20210407
DTSTAMP:20210417T225553
CREATED:20200921T195330Z
LAST-MODIFIED:20200921T195330Z
UID:5835-1617667200-1617753599@schoolofsaintmary.com
SUMMARY:Free Dress
DESCRIPTION:
URL:https://schoolofsaintmary.com/event/free-dress-43/
END:VEVENT
BEGIN:VEVENT
DTSTART;TZID=America/Chicago:20210408T190000
DTEND;TZID=America/Chicago:20210408T190000
DTSTAMP:20210417T225553
CREATED:20200921T193821Z
LAST-MODIFIED:20200921T193821Z
UID:5810-1617908400-1617908400@schoolofsaintmary.com
SUMMARY:Advisory Council Mtg.
DESCRIPTION:
URL:https://schoolofsaintmary.com/event/advisory-council-mtg-8/
END:VEVENT
BEGIN:VEVENT
DTSTART;VALUE=DATE:20210409
DTEND;VALUE=DATE:20210410
DTSTAMP:20210417T225553
CREATED:20210322T172006Z
LAST-MODIFIED:20210322T172006Z
UID:6430-1617926400-1618012799@schoolofsaintmary.com
SUMMARY:9:00am Mass - 3/4/5
DESCRIPTION:
URL:https://schoolofsaintmary.com/event/900am-mass-3-4-5-5/
END:VEVENT
BEGIN:VEVENT
DTSTART;TZID=America/Chicago:20210412T190000
DTEND;TZID=America/Chicago:20210412T190000
DTSTAMP:20210417T225553
CREATED:20200921T194637Z
LAST-MODIFIED:20200921T194637Z
UID:5822-1618254000-1618254000@schoolofsaintmary.com
SUMMARY:H & S Mtg.
DESCRIPTION:
URL:https://schoolofsaintmary.com/event/h-s-mtg-4/
END:VEVENT
BEGIN:VEVENT
DTSTART;TZID=America/Chicago:20210415T090000
DTEND;TZID=America/Chicago:20210415T110000
DTSTAMP:20210417T225553
CREATED:20210322T172359Z
LAST-MODIFIED:20210322T172359Z
UID:6432-1618477200-1618484400@schoolofsaintmary.com
SUMMARY:9:00am - 5th to Zoom Revolutionary War Women
DESCRIPTION:
URL:https://schoolofsaintmary.com/event/900am-5th-to-zoom-revolutionary-war-women/
END:VEVENT
BEGIN:VEVENT
DTSTART;VALUE=DATE:20210416
DTEND;VALUE=DATE:20210417
DTSTAMP:20210417T225553
CREATED:20210322T173223Z
LAST-MODIFIED:20210322T173223Z
UID:6434-1618531200-1618617599@schoolofsaintmary.com
SUMMARY:9:00am Mass - K/1/2
DESCRIPTION:
URL:https://schoolofsaintmary.com/event/900am-mass-k-1-2-4/
END:VEVENT
BEGIN:VEVENT
DTSTART;VALUE=DATE:20210419
DTEND;VALUE=DATE:20210420
DTSTAMP:20210417T225553
CREATED:20210322T174858Z
LAST-MODIFIED:20210407T142130Z
UID:6440-1618790400-1618876799@schoolofsaintmary.com
SUMMARY:12:00pm - Track Meet at BK
DESCRIPTION:
URL:https://schoolofsaintmary.com/event/1230pm-track-meet-at-bk/
END:VEVENT
BEGIN:VEVENT
DTSTART;VALUE=DATE:20210421
DTEND;VALUE=DATE:20210422
DTSTAMP:20210417T225553
CREATED:20200921T201223Z
LAST-MODIFIED:20200921T201223Z
UID:5845-1618963200-1619049599@schoolofsaintmary.com
SUMMARY:Pizza Day
DESCRIPTION:
URL:https://schoolofsaintmary.com/event/pizza-day-34/
END:VEVENT
BEGIN:VEVENT
DTSTART;VALUE=DATE:20210423
DTEND;VALUE=DATE:20210424
DTSTAMP:20210417T225553
CREATED:20210322T173336Z
LAST-MODIFIED:20210322T173336Z
UID:6436-1619136000-1619222399@schoolofsaintmary.com
SUMMARY:9:00am Mass - 6/7/8
DESCRIPTION:
URL:https://schoolofsaintmary.com/event/900am-mass-6-7-8-7/
END:VEVENT
BEGIN:VEVENT
DTSTART;VALUE=DATE:20210426
DTEND;VALUE=DATE:20210427
DTSTAMP:20210417T225553
CREATED:20201008T190142Z
LAST-MODIFIED:20201008T190142Z
UID:5936-1619395200-1619481599@schoolofsaintmary.com
SUMMARY:4th Qtr. Progress Reports Issued
DESCRIPTION:
URL:https://schoolofsaintmary.com/event/4th-qtr-progress-reports-issued-5/
END:VEVENT
BEGIN:VEVENT
DTSTART;VALUE=DATE:20210430
DTEND;VALUE=DATE:20210501
DTSTAMP:20210417T225553
CREATED:20210322T173450Z
LAST-MODIFIED:20210322T173450Z
UID:6438-1619740800-1619827199@schoolofsaintmary.com
SUMMARY:9:00am Mass - K/1/2
DESCRIPTION:
URL:https://schoolofsaintmary.com/event/900am-mass-k-1-2-5/
END:VEVENT
END:VCALENDAR